BEGIN:VCALENDAR
VERSION:2.0
PRODID:-//Access Vegas - ECPv6.15.20//NONSGML v1.0//EN
CALSCALE:GREGORIAN
METHOD:PUBLISH
X-WR-CALNAME:Access Vegas
X-ORIGINAL-URL:https://www.access.vegas
X-WR-CALDESC:Events for Access Vegas
REFRESH-INTERVAL;VALUE=DURATION:PT1H
X-Robots-Tag:noindex
X-PUBLISHED-TTL:PT1H
BEGIN:VTIMEZONE
TZID:America/Los_Angeles
BEGIN:DAYLIGHT
TZOFFSETFROM:-0800
TZOFFSETTO:-0700
TZNAME:PDT
DTSTART:20240310T100000
END:DAYLIGHT
BEGIN:STANDARD
TZOFFSETFROM:-0700
TZOFFSETTO:-0800
TZNAME:PST
DTSTART:20241103T090000
END:STANDARD
BEGIN:DAYLIGHT
TZOFFSETFROM:-0800
TZOFFSETTO:-0700
TZNAME:PDT
DTSTART:20250309T100000
END:DAYLIGHT
BEGIN:STANDARD
TZOFFSETFROM:-0700
TZOFFSETTO:-0800
TZNAME:PST
DTSTART:20251102T090000
END:STANDARD
BEGIN:DAYLIGHT
TZOFFSETFROM:-0800
TZOFFSETTO:-0700
TZNAME:PDT
DTSTART:20260308T100000
END:DAYLIGHT
BEGIN:STANDARD
TZOFFSETFROM:-0700
TZOFFSETTO:-0800
TZNAME:PST
DTSTART:20261101T090000
END:STANDARD
END:VTIMEZONE
BEGIN:VEVENT
DTSTART;TZID=America/Los_Angeles:20250214T110000
DTEND;TZID=America/Los_Angeles:20250504T210000
DTSTAMP:20260422T060529
CREATED:20250206T192324Z
LAST-MODIFIED:20250206T192406Z
UID:6890-1739530800-1746392400@www.access.vegas
SUMMARY:Roller Rink
DESCRIPTION:Enjoy the ultimate vibe at Downtown Summerlin’s first-ever outdoor retro-inspired roller rink! \nHours Monday – Friday: 4pm-9pm \nSaturday & Sunday: 11am-9pm \nHolidays & No School Days: 11am-9pm
URL:https://www.access.vegas/event/roller-rink/
LOCATION:Downtown Summerlin\, 1980 Festival Plaza Dr\, Las Vegas\, NV\, 89135\, United States
CATEGORIES:Downtown Summerlin
END:VEVENT
BEGIN:VEVENT
DTSTART;VALUE=DATE:20250314
DTEND;VALUE=DATE:20250317
DTSTAMP:20260422T060529
CREATED:20250304T212336Z
LAST-MODIFIED:20250304T212736Z
UID:6999-1741910400-1742169599@www.access.vegas
SUMMARY:St. Patrick's Festival and Parade
DESCRIPTION:The 57th annual Sons and Daughters of Erin St. Patrick’s Festival and Parade! As one of Nevada’s largest St. Patrick’s celebrations\, this exciting three-day event is packed with fun. The festivities kick off Friday night with a carnival\, followed by the parade on Saturday at 10 AM\, and a car show on Sunday starting at 8 AM. Don’t miss out on the fun! \n\n\n\n\nFriday\, March 14\n\n\n\nCarnival & Festival\n5pm-10pm\n\n\nEntertainment\n6pm-9:30pm\n\n\n\n\n\n\n\nSaturday\, March 15\n\n\n\nCarnival & Festival\n10am-10pm\n\n\nParade\n10am-12pm\n\n\nEntertainment\n12pm-9:30pm\n\n\n\n\n\n\n\nSunday\, March 16\n\n\n\nCar Show\n8am-4pm\n\n\nCar Show Awards\n3pm\n\n\nFestival\n10am-6pm\n\n\nCarnival\n10am-8pm\n\n\nEntertainment\n12pm-5:30pm
URL:https://www.access.vegas/event/st-patricks-festival-and-parade/
LOCATION:Downtown Henderson\, 18 Navy St\, Henderson\, Nevada\, 89015
CATEGORIES:Downtown Henderson
ATTACH;FMTTYPE=image/png:https://www.access.vegas/wp-content/uploads/2025/03/Screenshot-2025-03-04-at-1.25.50 PM.png
END:VEVENT
END:VCALENDAR