BEGIN:VCALENDAR
VERSION:2.0
PRODID:-//Access Vegas - ECPv6.15.20//NONSGML v1.0//EN
CALSCALE:GREGORIAN
METHOD:PUBLISH
X-WR-CALNAME:Access Vegas
X-ORIGINAL-URL:https://www.access.vegas
X-WR-CALDESC:Events for Access Vegas
REFRESH-INTERVAL;VALUE=DURATION:PT1H
X-Robots-Tag:noindex
X-PUBLISHED-TTL:PT1H
BEGIN:VTIMEZONE
TZID:America/Los_Angeles
BEGIN:DAYLIGHT
TZOFFSETFROM:-0800
TZOFFSETTO:-0700
TZNAME:PDT
DTSTART:20240310T100000
END:DAYLIGHT
BEGIN:STANDARD
TZOFFSETFROM:-0700
TZOFFSETTO:-0800
TZNAME:PST
DTSTART:20241103T090000
END:STANDARD
BEGIN:DAYLIGHT
TZOFFSETFROM:-0800
TZOFFSETTO:-0700
TZNAME:PDT
DTSTART:20250309T100000
END:DAYLIGHT
BEGIN:STANDARD
TZOFFSETFROM:-0700
TZOFFSETTO:-0800
TZNAME:PST
DTSTART:20251102T090000
END:STANDARD
BEGIN:DAYLIGHT
TZOFFSETFROM:-0800
TZOFFSETTO:-0700
TZNAME:PDT
DTSTART:20260308T100000
END:DAYLIGHT
BEGIN:STANDARD
TZOFFSETFROM:-0700
TZOFFSETTO:-0800
TZNAME:PST
DTSTART:20261101T090000
END:STANDARD
END:VTIMEZONE
BEGIN:VEVENT
DTSTART;TZID=America/Los_Angeles:20250214T110000
DTEND;TZID=America/Los_Angeles:20250504T210000
DTSTAMP:20260423T024936
CREATED:20250206T192324Z
LAST-MODIFIED:20250206T192406Z
UID:6890-1739530800-1746392400@www.access.vegas
SUMMARY:Roller Rink
DESCRIPTION:Enjoy the ultimate vibe at Downtown Summerlin’s first-ever outdoor retro-inspired roller rink! \nHours Monday – Friday: 4pm-9pm \nSaturday & Sunday: 11am-9pm \nHolidays & No School Days: 11am-9pm
URL:https://www.access.vegas/event/roller-rink/
LOCATION:Downtown Summerlin\, 1980 Festival Plaza Dr\, Las Vegas\, NV\, 89135\, United States
CATEGORIES:Downtown Summerlin
END:VEVENT
BEGIN:VEVENT
DTSTART;TZID=America/Los_Angeles:20250410T100000
DTEND;TZID=America/Los_Angeles:20250410T140000
DTSTAMP:20260423T024936
CREATED:20231230T202741Z
LAST-MODIFIED:20250403T200706Z
UID:4783-1744279200-1744293600@www.access.vegas
SUMMARY:Farmers Market
DESCRIPTION:Freshly harvested\, farm-fresh produce.
URL:https://www.access.vegas/event/farmers-market-3/
LOCATION:The District at Green Valley Ranch\, 2240 Village Walk Dr\, Henderson\, NV 89052\, NV\, 89052\, United States
CATEGORIES:Green Valley Ranch
END:VEVENT
BEGIN:VEVENT
DTSTART;TZID=America/Los_Angeles:20250410T150000
DTEND;TZID=America/Los_Angeles:20250410T190000
DTSTAMP:20260423T024936
CREATED:20250301T192111Z
LAST-MODIFIED:20250405T174707Z
UID:6983-1744297200-1744311600@www.access.vegas
SUMMARY:Henderson Farmers Market
DESCRIPTION:Browse a curated selection of fresh produce and handcrafted\, healthy products from local vendors. \nMontagna Park (3495 Via Altamira)
URL:https://www.access.vegas/event/henderson-farmers-market-8/
LOCATION:Montagna Park\, 3495 Via Altamira\, Henderson\, United States
CATEGORIES:Montagna Park
ATTACH;FMTTYPE=image/png:https://www.access.vegas/wp-content/uploads/2025/03/Screenshot-2025-03-01-at-10.52.53 AM.png
END:VEVENT
END:VCALENDAR