BEGIN:VCALENDAR
VERSION:2.0
PRODID:-//Access Vegas - ECPv6.15.20//NONSGML v1.0//EN
CALSCALE:GREGORIAN
METHOD:PUBLISH
X-WR-CALNAME:Access Vegas
X-ORIGINAL-URL:https://www.access.vegas
X-WR-CALDESC:Events for Access Vegas
REFRESH-INTERVAL;VALUE=DURATION:PT1H
X-Robots-Tag:noindex
X-PUBLISHED-TTL:PT1H
BEGIN:VTIMEZONE
TZID:America/Los_Angeles
BEGIN:DAYLIGHT
TZOFFSETFROM:-0800
TZOFFSETTO:-0700
TZNAME:PDT
DTSTART:20240310T100000
END:DAYLIGHT
BEGIN:STANDARD
TZOFFSETFROM:-0700
TZOFFSETTO:-0800
TZNAME:PST
DTSTART:20241103T090000
END:STANDARD
BEGIN:DAYLIGHT
TZOFFSETFROM:-0800
TZOFFSETTO:-0700
TZNAME:PDT
DTSTART:20250309T100000
END:DAYLIGHT
BEGIN:STANDARD
TZOFFSETFROM:-0700
TZOFFSETTO:-0800
TZNAME:PST
DTSTART:20251102T090000
END:STANDARD
BEGIN:DAYLIGHT
TZOFFSETFROM:-0800
TZOFFSETTO:-0700
TZNAME:PDT
DTSTART:20260308T100000
END:DAYLIGHT
BEGIN:STANDARD
TZOFFSETFROM:-0700
TZOFFSETTO:-0800
TZNAME:PST
DTSTART:20261101T090000
END:STANDARD
END:VTIMEZONE
BEGIN:VEVENT
DTSTART;TZID=America/Los_Angeles:20250712T130000
DTEND;TZID=America/Los_Angeles:20250712T170000
DTSTAMP:20260420T102149
CREATED:20250711T010303Z
LAST-MODIFIED:20250711T010303Z
UID:7542-1752325200-1752339600@www.access.vegas
SUMMARY:Music on the Mountain
DESCRIPTION:Don’t miss Music on the Mountain at Lee Canyon—a free\, all-ages summer concert series in the cool mountain air. Gates open at 9:00 AM\, with live music rocking the canyon from 1:00 PM to 5:00 PM. \nJuly 12 – Latitude 20\nJuly 26 – Roxy Gunn Project\nAugust 23 – Red Eye Gin\nSeptember 20 – Ashley Red\nOctober 4 – Fall Fest\nGates open at 9:00 AM and music starts at Noon!\nFall Fest Music Schedule: \n\nJonny Hazard – 12:00 PM – 2:00 PM\nWedge Brothers – 2:30 PM – 4:30 PM\nThe Parametrics– 5:00 PM – 7:00 PM\n\n 
URL:https://www.access.vegas/event/music-on-the-mountain/
LOCATION:Lee Canyon\, 6725 Lee Canyon Rd\, Las Vegas\, NV\, United States
END:VEVENT
BEGIN:VEVENT
DTSTART;TZID=America/Los_Angeles:20250712T190000
DTEND;TZID=America/Los_Angeles:20250712T220000
DTSTAMP:20260420T102149
CREATED:20250528T203245Z
LAST-MODIFIED:20250528T203245Z
UID:7404-1752346800-1752357600@www.access.vegas
SUMMARY:Poolside Concert Series at Bel-Aire Backyard
DESCRIPTION:Dashboard ConfessionalDate: Saturday\, July 12Time: Doors open at 7 PM | Show starts at 8 PMTickets: Starting at $45 (plus tax & fees)
URL:https://www.access.vegas/event/poolside-concert-series-at-bel-aire-backyard/
LOCATION:Durango Station\, 6915 S Durango Dr\, Las Vegas\, NV\, 89148\, United States
CATEGORIES:Durango Station
ATTACH;FMTTYPE=image/jpeg:https://www.access.vegas/wp-content/uploads/2024/03/durangoresort.jpg
END:VEVENT
END:VCALENDAR