BEGIN:VCALENDAR
VERSION:2.0
PRODID:-//Access Vegas - ECPv6.15.20//NONSGML v1.0//EN
CALSCALE:GREGORIAN
METHOD:PUBLISH
X-WR-CALNAME:Access Vegas
X-ORIGINAL-URL:https://www.access.vegas
X-WR-CALDESC:Events for Access Vegas
REFRESH-INTERVAL;VALUE=DURATION:PT1H
X-Robots-Tag:noindex
X-PUBLISHED-TTL:PT1H
BEGIN:VTIMEZONE
TZID:America/Los_Angeles
BEGIN:DAYLIGHT
TZOFFSETFROM:-0800
TZOFFSETTO:-0700
TZNAME:PDT
DTSTART:20230312T100000
END:DAYLIGHT
BEGIN:STANDARD
TZOFFSETFROM:-0700
TZOFFSETTO:-0800
TZNAME:PST
DTSTART:20231105T090000
END:STANDARD
BEGIN:DAYLIGHT
TZOFFSETFROM:-0800
TZOFFSETTO:-0700
TZNAME:PDT
DTSTART:20240310T100000
END:DAYLIGHT
BEGIN:STANDARD
TZOFFSETFROM:-0700
TZOFFSETTO:-0800
TZNAME:PST
DTSTART:20241103T090000
END:STANDARD
BEGIN:DAYLIGHT
TZOFFSETFROM:-0800
TZOFFSETTO:-0700
TZNAME:PDT
DTSTART:20250309T100000
END:DAYLIGHT
BEGIN:STANDARD
TZOFFSETFROM:-0700
TZOFFSETTO:-0800
TZNAME:PST
DTSTART:20251102T090000
END:STANDARD
BEGIN:DAYLIGHT
TZOFFSETFROM:-0800
TZOFFSETTO:-0700
TZNAME:PDT
DTSTART:20260308T100000
END:DAYLIGHT
BEGIN:STANDARD
TZOFFSETFROM:-0700
TZOFFSETTO:-0800
TZNAME:PST
DTSTART:20261101T090000
END:STANDARD
END:VTIMEZONE
BEGIN:VEVENT
DTSTART;TZID=America/Los_Angeles:20241108T160000
DTEND;TZID=America/Los_Angeles:20250120T220000
DTSTAMP:20260420T101801
CREATED:20241029T021635Z
LAST-MODIFIED:20241029T021635Z
UID:6384-1731081600-1737410400@www.access.vegas
SUMMARY:Rock Rink - Downtown Summerlin
DESCRIPTION:November 8\, 2024 – January 20\, 2025\nEnjoy the 8\,000-square-foot real-ice skating rink near The Pavilion at The Lawn\, where you can skate under the stars to festive holiday music. A stunning 40-foot holiday tree sparkles nearby\, adding to the magical winter scene. \nNovember 15 – January 20\nMon – Th: 4PM – 9PM\nFri: 4PM – 10PM\nSat: 10AM – 10PM\nSun: 11AM – 8PM
URL:https://www.access.vegas/event/rock-rink-downtown-summerlin/
LOCATION:Downtown Summerlin\, 1980 Festival Plaza Dr\, Las Vegas\, NV\, 89135\, United States
CATEGORIES:Downtown Summerlin
END:VEVENT
BEGIN:VEVENT
DTSTART;TZID=America/Los_Angeles:20241109T090000
DTEND;TZID=America/Los_Angeles:20241109T140000
DTSTAMP:20260420T101801
CREATED:20240228T192318Z
LAST-MODIFIED:20241021T170827Z
UID:5145-1731142800-1731160800@www.access.vegas
SUMMARY:Las Vegas Farmers Market
DESCRIPTION:Freshest fruits and vegetables\, authentic hand-crafted European style\, local fresh breads and pastries.
URL:https://www.access.vegas/event/las-vegas-farmers-market-7/
LOCATION:Downtown Summerlin\, 1980 Festival Plaza Dr\, Las Vegas\, NV\, 89135\, United States
CATEGORIES:Downtown Summerlin
ATTACH;FMTTYPE=image/jpeg:https://www.access.vegas/wp-content/uploads/2024/02/summerlinmarket.jpg
END:VEVENT
END:VCALENDAR