BEGIN:VCALENDAR
VERSION:2.0
PRODID:-//Access Vegas - ECPv6.15.20//NONSGML v1.0//EN
CALSCALE:GREGORIAN
METHOD:PUBLISH
X-ORIGINAL-URL:https://www.access.vegas
X-WR-CALDESC:Events for Access Vegas
REFRESH-INTERVAL;VALUE=DURATION:PT1H
X-Robots-Tag:noindex
X-PUBLISHED-TTL:PT1H
BEGIN:VTIMEZONE
TZID:America/Los_Angeles
BEGIN:DAYLIGHT
TZOFFSETFROM:-0800
TZOFFSETTO:-0700
TZNAME:PDT
DTSTART:20240310T100000
END:DAYLIGHT
BEGIN:STANDARD
TZOFFSETFROM:-0700
TZOFFSETTO:-0800
TZNAME:PST
DTSTART:20241103T090000
END:STANDARD
BEGIN:DAYLIGHT
TZOFFSETFROM:-0800
TZOFFSETTO:-0700
TZNAME:PDT
DTSTART:20250309T100000
END:DAYLIGHT
BEGIN:STANDARD
TZOFFSETFROM:-0700
TZOFFSETTO:-0800
TZNAME:PST
DTSTART:20251102T090000
END:STANDARD
BEGIN:DAYLIGHT
TZOFFSETFROM:-0800
TZOFFSETTO:-0700
TZNAME:PDT
DTSTART:20260308T100000
END:DAYLIGHT
BEGIN:STANDARD
TZOFFSETFROM:-0700
TZOFFSETTO:-0800
TZNAME:PST
DTSTART:20261101T090000
END:STANDARD
END:VTIMEZONE
BEGIN:VEVENT
DTSTART;TZID=America/Los_Angeles:20250214T110000
DTEND;TZID=America/Los_Angeles:20250504T210000
DTSTAMP:20260420T045838
CREATED:20250206T192324Z
LAST-MODIFIED:20250206T192406Z
UID:6890-1739530800-1746392400@www.access.vegas
SUMMARY:Roller Rink
DESCRIPTION:Enjoy the ultimate vibe at Downtown Summerlin’s first-ever outdoor retro-inspired roller rink! \nHours Monday – Friday: 4pm-9pm \nSaturday & Sunday: 11am-9pm \nHolidays & No School Days: 11am-9pm
URL:https://www.access.vegas/event/roller-rink/
LOCATION:Downtown Summerlin\, 1980 Festival Plaza Dr\, Las Vegas\, NV\, 89135\, United States
CATEGORIES:Downtown Summerlin
END:VEVENT
BEGIN:VEVENT
DTSTART;TZID=America/Los_Angeles:20250301T110000
DTEND;TZID=America/Los_Angeles:20250301T160000
DTSTAMP:20260420T045838
CREATED:20240507T203756Z
LAST-MODIFIED:20250206T190418Z
UID:5482-1740826800-1740844800@www.access.vegas
SUMMARY:Market in the Alley
DESCRIPTION:Support Local. Support Small. – 40+ vendors \nMarch 1st | 11a – 4p \nApril 5th | 11a – 4p
URL:https://www.access.vegas/event/market-in-the-alley-4/
LOCATION:UnCommons\, 6880 Helen Toland St\, Las Vegas\, NV\, 89113\, United States
CATEGORIES:UnCommons
ATTACH;FMTTYPE=image/jpeg:https://www.access.vegas/wp-content/uploads/2024/07/marketinthealleyuncommons.jpg
END:VEVENT
BEGIN:VEVENT
DTSTART;TZID=America/Los_Angeles:20250308T130000
DTEND;TZID=America/Los_Angeles:20250308T160000
DTSTAMP:20260420T045838
CREATED:20250301T202024Z
LAST-MODIFIED:20250301T202024Z
UID:6997-1741438800-1741449600@www.access.vegas
SUMMARY:2025 Big League Weekend
DESCRIPTION:Big League Weekend is back on Saturday and Sunday\, March 8-9\, 2025! Catch the A’s take on the Diamondbacks\, with games starting at 1:05 PM each day.
URL:https://www.access.vegas/event/2025-big-league-weekend/
LOCATION:Las Vegas Ballpark\, 1650 S Pavilion Center Drive\, Las Vegas\, NV\, 890135\, United States
CATEGORIES:Las Vegas Ballpark
ATTACH;FMTTYPE=image/jpeg:https://www.access.vegas/wp-content/uploads/2025/02/vegasballpark.jpg
END:VEVENT
BEGIN:VEVENT
DTSTART;TZID=America/Los_Angeles:20250309T100000
DTEND;TZID=America/Los_Angeles:20250309T160000
DTSTAMP:20260420T045838
CREATED:20250206T190740Z
LAST-MODIFIED:20250206T190740Z
UID:6886-1741514400-1741536000@www.access.vegas
SUMMARY:Sunday Stroll
DESCRIPTION:Discover the creations of live artists\, find one-of-a-kind treasures from local artisans\, and savor a thoughtfully curated selection of food and crafted beverages.
URL:https://www.access.vegas/event/sunday-stroll/
LOCATION:Downtown Summerlin\, 1980 Festival Plaza Dr\, Las Vegas\, NV\, 89135\, United States
CATEGORIES:Downtown Summerlin
END:VEVENT
BEGIN:VEVENT
DTSTART;VALUE=DATE:20250314
DTEND;VALUE=DATE:20250317
DTSTAMP:20260420T045838
CREATED:20250304T212336Z
LAST-MODIFIED:20250304T212736Z
UID:6999-1741910400-1742169599@www.access.vegas
SUMMARY:St. Patrick's Festival and Parade
DESCRIPTION:The 57th annual Sons and Daughters of Erin St. Patrick’s Festival and Parade! As one of Nevada’s largest St. Patrick’s celebrations\, this exciting three-day event is packed with fun. The festivities kick off Friday night with a carnival\, followed by the parade on Saturday at 10 AM\, and a car show on Sunday starting at 8 AM. Don’t miss out on the fun! \n\n\n\n\nFriday\, March 14\n\n\n\nCarnival & Festival\n5pm-10pm\n\n\nEntertainment\n6pm-9:30pm\n\n\n\n\n\n\n\nSaturday\, March 15\n\n\n\nCarnival & Festival\n10am-10pm\n\n\nParade\n10am-12pm\n\n\nEntertainment\n12pm-9:30pm\n\n\n\n\n\n\n\nSunday\, March 16\n\n\n\nCar Show\n8am-4pm\n\n\nCar Show Awards\n3pm\n\n\nFestival\n10am-6pm\n\n\nCarnival\n10am-8pm\n\n\nEntertainment\n12pm-5:30pm
URL:https://www.access.vegas/event/st-patricks-festival-and-parade/
LOCATION:Downtown Henderson\, 18 Navy St\, Henderson\, Nevada\, 89015
CATEGORIES:Downtown Henderson
ATTACH;FMTTYPE=image/png:https://www.access.vegas/wp-content/uploads/2025/03/Screenshot-2025-03-04-at-1.25.50 PM.png
END:VEVENT
BEGIN:VEVENT
DTSTART;TZID=America/Los_Angeles:20250315T110000
DTEND;TZID=America/Los_Angeles:20250315T160000
DTSTAMP:20260420T045838
CREATED:20240507T204129Z
LAST-MODIFIED:20250206T190051Z
UID:5484-1742036400-1742054400@www.access.vegas
SUMMARY:Market in the Alley
DESCRIPTION:Support Local. Support Small. – 40+ vendors
URL:https://www.access.vegas/event/market-in-the-alley-5/
LOCATION:Arts District\, 1025 S 1st St\, Las Vegas\, NV\, 89101\, United States
CATEGORIES:Arts District
END:VEVENT
BEGIN:VEVENT
DTSTART;TZID=America/Los_Angeles:20250322T140000
DTEND;TZID=America/Los_Angeles:20250322T180000
DTSTAMP:20260420T045838
CREATED:20250301T201402Z
LAST-MODIFIED:20250301T201402Z
UID:6995-1742652000-1742666400@www.access.vegas
SUMMARY:New Vista Brew’s Best Craft Beer Festival
DESCRIPTION:New Vista’s Brew’s Best Craft Beer Festival is back at Downtown Summerlin on Saturday\, March 22\, from 2 PM to 6 PM at The Lawn! Spend the afternoon sampling unlimited craft beers from local and national breweries while enjoying live entertainment\, food trucks\, and more. \nGeneral Admission: $50VIP Experience: $60
URL:https://www.access.vegas/event/new-vista-brews-best-craft-beer-festival/
LOCATION:Downtown Summerlin\, 1980 Festival Plaza Dr\, Las Vegas\, NV\, 89135\, United States
CATEGORIES:Downtown Summerlin
ATTACH;FMTTYPE=image/jpeg:https://www.access.vegas/wp-content/uploads/2024/10/dtwnsumm.jpg
END:VEVENT
BEGIN:VEVENT
DTSTART;TZID=America/Los_Angeles:20250328T160000
DTEND;TZID=America/Los_Angeles:20250328T200000
DTSTAMP:20260420T045838
CREATED:20250301T185555Z
LAST-MODIFIED:20250301T185854Z
UID:6964-1743177600-1743192000@www.access.vegas
SUMMARY:Henderson Farmers Market
DESCRIPTION:Browse a curated selection of fresh produce and handcrafted\, healthy products from local vendors. \nArmy St. (129 S. Water St.)
URL:https://www.access.vegas/event/henderson-farmers-market/
LOCATION:Downtown Henderson\, 18 Navy St\, Henderson\, Nevada\, 89015
CATEGORIES:Downtown Henderson
ATTACH;FMTTYPE=image/png:https://www.access.vegas/wp-content/uploads/2025/03/Screenshot-2025-03-01-at-10.52.53 AM.png
END:VEVENT
BEGIN:VEVENT
DTSTART;TZID=America/Los_Angeles:20250328T190500
DTEND;TZID=America/Los_Angeles:20250328T220000
DTSTAMP:20260420T045838
CREATED:20250219T204809Z
LAST-MODIFIED:20250219T205020Z
UID:6923-1743188700-1743199200@www.access.vegas
SUMMARY:Aviators Season Opener & Home Opener
DESCRIPTION:The Aviators\, the Triple-A affiliate of the Athletics\, kick off their sixth season at Las Vegas Ballpark and the 42nd PCL season in Nevada with a matchup against their intrastate rival\, the Reno Aces\, the Triple-A affiliate of the Arizona Diamondbacks. A post-game fireworks show is planned!
URL:https://www.access.vegas/event/aviators-season-opener-home-opener/
LOCATION:Las Vegas Ballpark\, 1650 S Pavilion Center Drive\, Las Vegas\, NV\, 890135\, United States
CATEGORIES:Las Vegas Ballpark
ATTACH;FMTTYPE=image/jpeg:https://www.access.vegas/wp-content/uploads/2023/07/Vegas-Ballpark-view.jpg
END:VEVENT
BEGIN:VEVENT
DTSTART;TZID=America/Los_Angeles:20250329T090000
DTEND;TZID=America/Los_Angeles:20250329T140000
DTSTAMP:20260420T045838
CREATED:20250301T191131Z
LAST-MODIFIED:20250301T191131Z
UID:6975-1743238800-1743256800@www.access.vegas
SUMMARY:Henderson Farmers Market
DESCRIPTION:Browse a curated selection of fresh produce and handcrafted\, healthy products from local vendors. \nCornerstone Park (1600 Wigwam Pkwy.)
URL:https://www.access.vegas/event/henderson-farmers-market-5/
LOCATION:Cornerstone Park\, 1600 Wigwam Pkwy\, Henderson\, NV\, 89074\, United States
CATEGORIES:Cornerstone Park
ATTACH;FMTTYPE=image/png:https://www.access.vegas/wp-content/uploads/2025/03/Screenshot-2025-03-01-at-10.52.53 AM.png
END:VEVENT
BEGIN:VEVENT
DTSTART;TZID=America/Los_Angeles:20250329T100000
DTEND;TZID=America/Los_Angeles:20250329T160000
DTSTAMP:20260420T045838
CREATED:20240228T165512Z
LAST-MODIFIED:20250206T184134Z
UID:5131-1743242400-1743264000@www.access.vegas
SUMMARY:Market in the Alley
DESCRIPTION:Support Local. Support Small. – 40+ vendors
URL:https://www.access.vegas/event/market-in-the-alley-2/
LOCATION:The District at Green Valley Ranch\, 2240 Village Walk Dr\, Henderson\, NV 89052\, NV\, 89052\, United States
CATEGORIES:Green Valley Ranch
ATTACH;FMTTYPE=image/jpeg:https://www.access.vegas/wp-content/uploads/2024/07/gvrevents.jpg
END:VEVENT
END:VCALENDAR