BEGIN:VCALENDAR
VERSION:2.0
PRODID:-//Access Vegas - ECPv6.15.20//NONSGML v1.0//EN
CALSCALE:GREGORIAN
METHOD:PUBLISH
X-ORIGINAL-URL:https://www.access.vegas
X-WR-CALDESC:Events for Access Vegas
REFRESH-INTERVAL;VALUE=DURATION:PT1H
X-Robots-Tag:noindex
X-PUBLISHED-TTL:PT1H
BEGIN:VTIMEZONE
TZID:America/Los_Angeles
BEGIN:DAYLIGHT
TZOFFSETFROM:-0800
TZOFFSETTO:-0700
TZNAME:PDT
DTSTART:20240310T100000
END:DAYLIGHT
BEGIN:STANDARD
TZOFFSETFROM:-0700
TZOFFSETTO:-0800
TZNAME:PST
DTSTART:20241103T090000
END:STANDARD
BEGIN:DAYLIGHT
TZOFFSETFROM:-0800
TZOFFSETTO:-0700
TZNAME:PDT
DTSTART:20250309T100000
END:DAYLIGHT
BEGIN:STANDARD
TZOFFSETFROM:-0700
TZOFFSETTO:-0800
TZNAME:PST
DTSTART:20251102T090000
END:STANDARD
BEGIN:DAYLIGHT
TZOFFSETFROM:-0800
TZOFFSETTO:-0700
TZNAME:PDT
DTSTART:20260308T100000
END:DAYLIGHT
BEGIN:STANDARD
TZOFFSETFROM:-0700
TZOFFSETTO:-0800
TZNAME:PST
DTSTART:20261101T090000
END:STANDARD
END:VTIMEZONE
BEGIN:VEVENT
DTSTART;TZID=America/Los_Angeles:20250808T190000
DTEND;TZID=America/Los_Angeles:20250808T220000
DTSTAMP:20260420T101809
CREATED:20250528T210241Z
LAST-MODIFIED:20250528T210241Z
UID:7422-1754679600-1754690400@www.access.vegas
SUMMARY:Dive-in Movie Nights at the M Pool
DESCRIPTION:A SUMMER OF BLOCKBUSTERS!Catch your favorite films poolside on the BIG SCREEN at M POOL! \n🎟️ $10 Admission | All Ages | After 7 PM🎬 Showtime: 7:30 PM💦 Dive-in and enjoy a movie under the stars! \n\nUPCOMING SHOWS \n\n\nTOY STORY (G) • June 13 \n\n\nTHE WIZARD OF OZ (G) • June 27 \n\n\nALADDIN (PG) • July 11 \n\n\nINCREDIBLES 2 (PG) • July 25 \n\n\nSHREK (PG) • August 8 \n\n\nENCANTO (PG) • August 22 \n\n\nGREASE (PG) • September 5 \n\n\nMOANA 2 (PG) • September 19
URL:https://www.access.vegas/event/dive-in-movie-nights-at-the-m-pool-5/
LOCATION:M Resort\, 12300 Las Vegas Blvd S\, Henderson\, NV\, 89044\, United States
CATEGORIES:M Resort
ATTACH;FMTTYPE=image/jpeg:https://www.access.vegas/wp-content/uploads/2025/05/mresortlead.jpg
END:VEVENT
BEGIN:VEVENT
DTSTART;TZID=America/Los_Angeles:20250822T180000
DTEND;TZID=America/Los_Angeles:20250822T220000
DTSTAMP:20260420T101809
CREATED:20250528T203621Z
LAST-MODIFIED:20250528T203621Z
UID:7407-1755885600-1755900000@www.access.vegas
SUMMARY:Poolside Concert Series at Bel-Aire Backyard
DESCRIPTION:Michael Franti & SpearheadDate: Friday\, August 22Time: Doors open at 6 PM | Show starts at 7 PMTickets: Starting at $55 (plus tax & fees)
URL:https://www.access.vegas/event/poolside-concert-series-at-bel-aire-backyard-2/
LOCATION:Durango Station\, 6915 S Durango Dr\, Las Vegas\, NV\, 89148\, United States
CATEGORIES:Durango Station
ATTACH;FMTTYPE=image/jpeg:https://www.access.vegas/wp-content/uploads/2024/03/durangoresort.jpg
END:VEVENT
BEGIN:VEVENT
DTSTART;TZID=America/Los_Angeles:20250822T190000
DTEND;TZID=America/Los_Angeles:20250822T220000
DTSTAMP:20260420T101809
CREATED:20250528T210402Z
LAST-MODIFIED:20250528T210413Z
UID:7424-1755889200-1755900000@www.access.vegas
SUMMARY:Dive-in Movie Nights at the M Pool
DESCRIPTION:A SUMMER OF BLOCKBUSTERS!Catch your favorite films poolside on the BIG SCREEN at M POOL! \n🎟️ $10 Admission | All Ages | After 7 PM🎬 Showtime: 7:30 PM💦 Dive-in and enjoy a movie under the stars! \n\nUPCOMING SHOWS \n\n\nTOY STORY (G) • June 13 \n\n\nTHE WIZARD OF OZ (G) • June 27 \n\n\nALADDIN (PG) • July 11 \n\n\nINCREDIBLES 2 (PG) • July 25 \n\n\nSHREK (PG) • August 8 \n\n\nENCANTO (PG) • August 22 \n\n\nGREASE (PG) • September 5 \n\n\nMOANA 2 (PG) • September 19
URL:https://www.access.vegas/event/dive-in-movie-nights-at-the-m-pool-6/
LOCATION:M Resort\, 12300 Las Vegas Blvd S\, Henderson\, NV\, 89044\, United States
CATEGORIES:M Resort
ATTACH;FMTTYPE=image/jpeg:https://www.access.vegas/wp-content/uploads/2025/05/mresortlead.jpg
END:VEVENT
BEGIN:VEVENT
DTSTART;TZID=America/Los_Angeles:20250823T130000
DTEND;TZID=America/Los_Angeles:20250823T170000
DTSTAMP:20260420T101809
CREATED:20250711T011038Z
LAST-MODIFIED:20250711T011038Z
UID:7547-1755954000-1755968400@www.access.vegas
SUMMARY:Music on the Mountain
DESCRIPTION:Don’t miss Music on the Mountain at Lee Canyon—a free\, all-ages summer concert series in the cool mountain air. Gates open at 9:00 AM\, with live music rocking the canyon from 1:00 PM to 5:00 PM. \nJuly 12 – Latitude 20\nJuly 26 – Roxy Gunn Project\nAugust 23 – Red Eye Gin\nSeptember 20 – Ashley Red\nOctober 4 – Fall Fest\nGates open at 9:00 AM and music starts at Noon!\nFall Fest Music Schedule: \nJonny Hazard – 12:00 PM – 2:00 PM\nWedge Brothers – 2:30 PM – 4:30 PM\nThe Parametrics– 5:00 PM – 7:00 PM
URL:https://www.access.vegas/event/music-on-the-mountain-3/
LOCATION:Lee Canyon\, 6725 Lee Canyon Rd\, Las Vegas\, NV\, United States
END:VEVENT
END:VCALENDAR