BEGIN:VCALENDAR
VERSION:2.0
PRODID:-//Access Vegas - ECPv6.15.20//NONSGML v1.0//EN
CALSCALE:GREGORIAN
METHOD:PUBLISH
X-WR-CALNAME:Access Vegas
X-ORIGINAL-URL:https://www.access.vegas
X-WR-CALDESC:Events for Access Vegas
REFRESH-INTERVAL;VALUE=DURATION:PT1H
X-Robots-Tag:noindex
X-PUBLISHED-TTL:PT1H
BEGIN:VTIMEZONE
TZID:America/Los_Angeles
BEGIN:DAYLIGHT
TZOFFSETFROM:-0800
TZOFFSETTO:-0700
TZNAME:PDT
DTSTART:20240310T100000
END:DAYLIGHT
BEGIN:STANDARD
TZOFFSETFROM:-0700
TZOFFSETTO:-0800
TZNAME:PST
DTSTART:20241103T090000
END:STANDARD
BEGIN:DAYLIGHT
TZOFFSETFROM:-0800
TZOFFSETTO:-0700
TZNAME:PDT
DTSTART:20250309T100000
END:DAYLIGHT
BEGIN:STANDARD
TZOFFSETFROM:-0700
TZOFFSETTO:-0800
TZNAME:PST
DTSTART:20251102T090000
END:STANDARD
BEGIN:DAYLIGHT
TZOFFSETFROM:-0800
TZOFFSETTO:-0700
TZNAME:PDT
DTSTART:20260308T100000
END:DAYLIGHT
BEGIN:STANDARD
TZOFFSETFROM:-0700
TZOFFSETTO:-0800
TZNAME:PST
DTSTART:20261101T090000
END:STANDARD
BEGIN:DAYLIGHT
TZOFFSETFROM:-0800
TZOFFSETTO:-0700
TZNAME:PDT
DTSTART:20270314T100000
END:DAYLIGHT
BEGIN:STANDARD
TZOFFSETFROM:-0700
TZOFFSETTO:-0800
TZNAME:PST
DTSTART:20271107T090000
END:STANDARD
END:VTIMEZONE
BEGIN:VEVENT
DTSTART;TZID=America/Los_Angeles:20251220T160000
DTEND;TZID=America/Los_Angeles:20260222T220000
DTSTAMP:20260420T011257
CREATED:20251220T170904Z
LAST-MODIFIED:20251220T171905Z
UID:8273-1766246400-1771797600@www.access.vegas
SUMMARY:GlowFest
DESCRIPTION:Dec 20 – Feb 22\, 2026\nLocation: 2600 Paradise Road (Near Sahara Las Vegas Monorail) \nGlowFest debuts with a multi-sensory journey telling the story of a lost baby dragon traveling through cosmic light. Guests can enjoy: \n\nInteractive\, glowing installations\nChef pop-ups\, food trucks\, and local vendors\nSanta visits and Christmas carolers\nNew Year’s cosplay performances\n\nThis brand-new attraction is perfect for families\, date nights\, and travelers wanting something new and spectacular.
URL:https://www.access.vegas/event/glowfest/
LOCATION:GlowFest\, 2600 Paradise Road\, Las Vegas\, NV\, 89109\, United States
ATTACH;FMTTYPE=image/jpeg:https://www.access.vegas/wp-content/uploads/2025/12/glowfestlead.jpg
END:VEVENT
BEGIN:VEVENT
DTSTART;TZID=America/Los_Angeles:20260206T050000
DTEND;TZID=America/Los_Angeles:20260216T220000
DTSTAMP:20260420T011257
CREATED:20260116T231417Z
LAST-MODIFIED:20260130T005623Z
UID:8389-1770354000-1771279200@www.access.vegas
SUMMARY:12th Annual Lights of Love at Ethel M Chocolates
DESCRIPTION:Celebrate Valentine’s season in one of Southern Nevada’s most romantic settings as Ethel M Chocolates marks its 45th anniversary in the Vegas Valley with the return of its beloved 12th Annual Lights of Love. This limited-time experience opens Friday\, February 6\, 2026\, and continues nightly through Monday\, February 16\, 2026\, from 5:00 PM to 10:00 PM PT\, inside the iconic three-acre Cactus Garden at the Henderson flagship store. \nDuring this event\, the desert landscape transforms into a glowing Valentine’s dream\, illuminated by more than half a million red\, pink\, and purple lights. As you stroll the winding garden paths\, the atmosphere feels intimate and festive—perfect for couples\, Galentine gatherings\, friends\, and families looking to create meaningful seasonal memories. \nTo elevate the experience even further\, guests can stop by the outdoor Garden Café and indulge in decadent chocolate-dipped treats or sip on Ethel M’s famous Gourmet Hot Chocolate\, making it easy to linger\, savor\, and soak in the romance of the evening. \nAdmission Details: \nEntry is $3 per person \n50% of proceeds benefit local nonprofits Three Square Food Bank and HELP of Southern Nevada \nAdmission is free for guests over 65 and children under 2 \nWhether you’re planning a romantic Valentine’s outing or simply want to experience one of Las Vegas’ most charming seasonal traditions\, Lights of Love offers a glowing reason to celebrate the season—one step\, one light\, and one sweet moment at a time. \nEthel M Chocolates Factory\, Flagship Store & Cactus Garden \n2 Cactus Garden Dr. \nHenderson\, NV 89014 \nPhone – 702.435.2608 \nEthel M Chocolates Cactus Garden Lights Hours \nFriday\, Feb. 6\, 2026\, through Monday\, Feb. 16\, 2026\, nightly starting at 5:00 p.m. PT \nFlagship Store Hours  \n9 a.m. – 10 p.m. PT
URL:https://www.access.vegas/event/12th-annual-lights-of-love-at-ethel-m-chocolates/
LOCATION:Ethel M Chocolates\, 2 Cactus Garden Dr.\, Henderson\, NV\, 89014\, United States
ATTACH;FMTTYPE=image/jpeg:https://www.access.vegas/wp-content/uploads/2026/01/Ethel-M-Lights-of-Love_2.jpg
END:VEVENT
BEGIN:VEVENT
DTSTART;TZID=America/Los_Angeles:20260208T100000
DTEND;TZID=America/Los_Angeles:20260208T140000
DTSTAMP:20260420T011257
CREATED:20260103T052850Z
LAST-MODIFIED:20260206T211521Z
UID:8362-1770544800-1770559200@www.access.vegas
SUMMARY:Las Vegas Farmers Market | UnCommons
DESCRIPTION:Freshly harvested\, farm-fresh produce. The Las Vegas Farmers Market will showcase a vibrant selection of fresh seasonal produce\, artisan gifts\, baked goods\, locally crafted sauces\, and more. Visit every Sunday from 10 a.m. to 2 p.m.
URL:https://www.access.vegas/event/las-vegas-farmers-market-uncommons-2/
LOCATION:UnCommons\, 6880 Helen Toland St\, Las Vegas\, NV\, 89113\, United States
CATEGORIES:UnCommons
ATTACH;FMTTYPE=image/jpeg:https://www.access.vegas/wp-content/uploads/2024/07/marketinthealleyuncommons.jpg
END:VEVENT
BEGIN:VEVENT
DTSTART;TZID=America/Los_Angeles:20260221T143000
DTEND;TZID=America/Los_Angeles:20260221T203000
DTSTAMP:20260420T011257
CREATED:20260130T004740Z
LAST-MODIFIED:20260130T004906Z
UID:8431-1771684200-1771705800@www.access.vegas
SUMMARY:International Fireworks Championship
DESCRIPTION:Las Vegas is about to light up like never before. On Saturday\, February 21\, 2026\, the International Fireworks Championship (IFC) makes its explosive Las Vegas debut at The Strip @ Las Vegas Motor Speedway. \nExperience four of the world’s most elite fireworks teams—representing Germany\, Japan\, Great Britain\, and the United States—as they go head-to-head in a live\, choreographed competition combining breathtaking pyrotechnics\, immersive music synchronization\, and cutting-edge design. These spectacular displays are fired lower to the ground\, delivering a more intense\, up-close\, and sensory-rich experience for every guest. \nThe night reaches legendary status with a World Record Attempt by renowned Spanish fireworks master Ricardo Caballer\, pushing the boundaries of what’s possible in live fireworks entertainment. \nBorn in Michigan and now exploding onto the Las Vegas skyline\, IFC is more than a show—it’s a global battle for bragging rights. \n4 Nations. 1 Night. 1 Champion. \nEvent Details \nDate: Saturday\, February 21\, 2026 \nGates Open: 2:30 PM \nFireworks Shows: 6:00 PM – 8:30 PM \nLocation: The Strip @ Las Vegas Motor Speedway \nEvent Highlights \nInternational fireworks competition \nChoreographed\, music-synced displays \nWorld record attempt by Ricardo Caballer \nInteractive People’s Choice voting via QR code \nLuxury suites and private viewing experiences are available \n🎟 Tickets & Information:Visit fireworkschampionship.com for tickets\, upgrades\, and full event details.
URL:https://www.access.vegas/event/international-fireworks-championship/
LOCATION:Las Vegas Motor Speedway\, 7000 Las Vegas Blvd. N.\, Las Vegas\, NV\, 89115\, United States
CATEGORIES:Las Vegas Motor Speedway
ATTACH;FMTTYPE=image/jpeg:https://www.access.vegas/wp-content/uploads/2026/01/firewarklead.jpg
END:VEVENT
BEGIN:VEVENT
DTSTART;TZID=America/Los_Angeles:20260222T100000
DTEND;TZID=America/Los_Angeles:20260222T140000
DTSTAMP:20260420T011257
CREATED:20250831T222617Z
LAST-MODIFIED:20260206T211602Z
UID:7801-1771754400-1771768800@www.access.vegas
SUMMARY:Las Vegas Farmers Market | UnCommons
DESCRIPTION:Freshly harvested\, farm-fresh produce. The Las Vegas Farmers Market will showcase a vibrant selection of fresh seasonal produce\, artisan gifts\, baked goods\, locally crafted sauces\, and more. Visit every Sunday from 10 a.m. to 2 p.m.
URL:https://www.access.vegas/event/las-vegas-farmers-market/
LOCATION:UnCommons\, 6880 Helen Toland St\, Las Vegas\, NV\, 89113\, United States
CATEGORIES:UnCommons
ATTACH;FMTTYPE=image/jpeg:https://www.access.vegas/wp-content/uploads/2024/07/marketinthealleyuncommons.jpg
END:VEVENT
END:VCALENDAR